BEGIN:VCALENDAR
VERSION:2.0
PRODID:-//MeWow Cafe - ECPv6.15.20//NONSGML v1.0//EN
CALSCALE:GREGORIAN
METHOD:PUBLISH
X-WR-CALNAME:MeWow Cafe
X-ORIGINAL-URL:https://mewow.cafe
X-WR-CALDESC:Events for MeWow Cafe
REFRESH-INTERVAL;VALUE=DURATION:PT1H
X-Robots-Tag:noindex
X-PUBLISHED-TTL:PT1H
BEGIN:VTIMEZONE
TZID:America/Los_Angeles
BEGIN:DAYLIGHT
TZOFFSETFROM:-0800
TZOFFSETTO:-0700
TZNAME:PDT
DTSTART:20250309T100000
END:DAYLIGHT
BEGIN:STANDARD
TZOFFSETFROM:-0700
TZOFFSETTO:-0800
TZNAME:PST
DTSTART:20251102T090000
END:STANDARD
BEGIN:DAYLIGHT
TZOFFSETFROM:-0800
TZOFFSETTO:-0700
TZNAME:PDT
DTSTART:20260308T100000
END:DAYLIGHT
BEGIN:STANDARD
TZOFFSETFROM:-0700
TZOFFSETTO:-0800
TZNAME:PST
DTSTART:20261101T090000
END:STANDARD
BEGIN:DAYLIGHT
TZOFFSETFROM:-0800
TZOFFSETTO:-0700
TZNAME:PDT
DTSTART:20270314T100000
END:DAYLIGHT
BEGIN:STANDARD
TZOFFSETFROM:-0700
TZOFFSETTO:-0800
TZNAME:PST
DTSTART:20271107T090000
END:STANDARD
END:VTIMEZONE
BEGIN:VEVENT
DTSTART;TZID=America/Los_Angeles:20260423T170000
DTEND;TZID=America/Los_Angeles:20260423T190000
DTSTAMP:20260423T052832
CREATED:20260324T145828Z
LAST-MODIFIED:20260324T145828Z
UID:7864-1776963600-1776970800@mewow.cafe
SUMMARY:World Book Night
DESCRIPTION:Free event! \nRegister HERE
URL:https://mewow.cafe/event/world-book-night/
LOCATION:MeWow Cat Cafe
ATTACH;FMTTYPE=image/png:https://mewow.cafe/wp-content/uploads/2026/03/Dusk-Gradient-Flyer-with-Cat-and-Book-1-e1774364291332.png
END:VEVENT
END:VCALENDAR